BEGIN:VCALENDAR
VERSION:2.0
PRODID:-//eventon.com NONSGML v1.0//EN
BEGIN:VEVENT
UID:69e8021c4629a
DTSTAMP:20260422T010252
DTSTART:20200918T193000Z
DTEND:20200918T235000Z
TZID:UTC
LOCATION:Auditorio Tenerife Av de la Constitución 1
SUMMARY:Strauss: "Metamorfosis"\,  Mahler IV
DESCRIPTION: Strauss: "Metamorfosis"\,  Mahler IV\nhttps://birgit-kolar.com/events/strauss-metamorphosen-mahler-iv/
URL:https://birgit-kolar.com/events/strauss-metamorphosen-mahler-iv/
END:VEVENT
END:VCALENDAR