BEGIN:VCALENDAR
VERSION:2.0
PRODID:-//eventon.com NONSGML v1.0//EN
BEGIN:VEVENT
UID:69eb1ff7f1667
DTSTAMP:20260424T094703
DTSTART:20210304T200000Z
DTEND:20210304T235000Z
TZID:UTC
LOCATION:Auditorio Alfredo Kraus 
SUMMARY:Gastkonzertmeister Orquesta Filarmónica de Gran Canaria
DESCRIPTION: Igor Stravinsky: Symphony of Psalms Hector Berlioz. Symphonie Fantastique Jean-Claude Casadeus\,  director\nhttps://birgit-kolar.com/events/gastkonzertmeister-orquesta-filarmonica-de-gran-canaria-2/
URL:https://birgit-kolar.com/events/gastkonzertmeister-orquesta-filarmonica-de-gran-canaria-2/
END:VEVENT
END:VCALENDAR