BEGIN:VCALENDAR
VERSION:2.0
PRODID:-//eventon.com NONSGML v1.0//EN
BEGIN:VEVENT
UID:69e8788ac0a91
DTSTAMP:20260422T092810
DTSTART:20210410T120000Z
DTEND:20210410T235000Z
TZID:UTC
LOCATION:Palau de la Música Catalana 
SUMMARY:Gastkonzertmeister Orquestra Simfònica del Vallès
DESCRIPTION: Gastkonzertmeister Orquestra Simfònica del Vallès\nhttps://birgit-kolar.com/events/gastkonzertmeister-orquestra-simfonica-del-valles/
URL:https://birgit-kolar.com/events/gastkonzertmeister-orquestra-simfonica-del-valles/
END:VEVENT
END:VCALENDAR