BEGIN:VCALENDAR
VERSION:2.0
PRODID:-//eventon.com NONSGML v1.0//EN
BEGIN:VEVENT
UID:69e88b09a6f07
DTSTAMP:20260422T104705
DTSTART:20210410T120000Z
DTEND:20210410T235000Z
TZID:UTC
LOCATION:
SUMMARY:guest concert master Orquestra Simfònica del Vallès
DESCRIPTION: guest concert master Orquestra Simfònica del Vallès\nhttps://birgit-kolar.com/events/gastkonzertmeister-orquestra-simfonica-del-valles/
URL:https://birgit-kolar.com/events/gastkonzertmeister-orquestra-simfonica-del-valles/
END:VEVENT
END:VCALENDAR