BEGIN:VCALENDAR
VERSION:2.0
PRODID:-//eventon.com NONSGML v1.0//EN
BEGIN:VEVENT
UID:69e7888d00f4e
DTSTAMP:20260421T162413
DTSTART:20211126T183000Z
DTEND:20211126T225000Z
TZID:Europe/Vienna
LOCATION:Auditorio Manuel de Falla 
SUMMARY:Gastkonzertmeister Orquesta Ciudad de Granada
DESCRIPTION: Manuel de FALLA Fanfare pour une fête Claude DEBUSSY Prélude à l’après midi d’un faune (arr. de Manuel de Falla) Francis POULENC Concert champêtre para clave y orquesta Maurice RAVEL Ma mère l’oye (Cinco piezas infantiles) SILVIA MÁRQUEZ clave ÁLVARO ALBIACH director\nhttps://birgit-kolar.com/events/gastkonzertmeister-ciudad-de-granada-copy/
URL:https://birgit-kolar.com/events/gastkonzertmeister-ciudad-de-granada-copy/
END:VEVENT
END:VCALENDAR