BEGIN:VCALENDAR
VERSION:2.0
PRODID:-//eventon.com NONSGML v1.0//EN
BEGIN:VEVENT
UID:69e8b343ecd22
DTSTAMP:20260422T133843
DTSTART:20220101T193000Z
DTEND:20220101T225000Z
TZID:Europe/Vienna
LOCATION:Palau de la Música Catalana 
SUMMARY:Concertino invitado Orquestra Simfònica del Vallès
DESCRIPTION: Concertino invitado Orquestra Simfònica del Vallès\nhttps://birgit-kolar.com/es/events/brahms-doble-concierto-para-violin-y-violonchelo-2/
URL:https://birgit-kolar.com/es/events/brahms-doble-concierto-para-violin-y-violonchelo-2/
END:VEVENT
END:VCALENDAR