BEGIN:VCALENDAR
VERSION:2.0
PRODID:-//eventon.com NONSGML v1.0//EN
BEGIN:VEVENT
UID:69e89df1d014d
DTSTAMP:20260422T120745
DTSTART:20220101T193000Z
DTEND:20220101T225000Z
TZID:Europe/Vienna
LOCATION:Palau de la Música Catalana 
SUMMARY:Guest concert master Orquestra Simfònica del Vallès
DESCRIPTION: Guest concert master Orquestra Simfònica del Vallès\nhttps://birgit-kolar.com/en/events/concertino-invitado-orquestra-simfonica-del-valles/
URL:https://birgit-kolar.com/en/events/concertino-invitado-orquestra-simfonica-del-valles/
END:VEVENT
END:VCALENDAR