BEGIN:VCALENDAR
VERSION:2.0
PRODID:-//eventon.com NONSGML v1.0//EN
BEGIN:VEVENT
UID:69e72e119afd5
DTSTAMP:20260421T095809
DTSTART:20221202T190000Z
DTEND:20221202T225000Z
TZID:Europe/Madrid
LOCATION:Circulo de las Artes 
SUMMARY:[:es]Beethoven  concerto para violín y orquesta[:]
DESCRIPTION: [:es]Beethoven  concerto para violín y orquesta[:]\nhttps://birgit-kolar.com/events/espanol-beethoven-concerto-para-violin-y-orquesta/
URL:https://birgit-kolar.com/events/espanol-beethoven-concerto-para-violin-y-orquesta/
END:VEVENT
END:VCALENDAR