BEGIN:VCALENDAR
VERSION:2.0
PRODID:-//eventon.com NONSGML v1.0//EN
BEGIN:VEVENT
UID:69e8992da1af7
DTSTAMP:20260422T114725
DTSTART:20231022T063000Z
DTEND:20231022T073000Z
TZID:Pacific/Midway
LOCATION:Auditorio Manuel de Falla 
SUMMARY:Rosenkavalier
DESCRIPTION: Rosenkavalier\nhttps://birgit-kolar.com/en/events/rosenkavalier/
URL:https://birgit-kolar.com/en/events/rosenkavalier/
END:VEVENT
END:VCALENDAR