BEGIN:VCALENDAR
VERSION:2.0
PRODID:-//eventon.com NONSGML v1.0//EN
BEGIN:VEVENT
UID:69e8addbafa81
DTSTAMP:20260422T131539
DTSTART:20231021T173000Z
DTEND:20231021T183000Z
TZID:Europe/Madrid
LOCATION:Auditorio Manuel de Falla 
SUMMARY:Rosenkavalier
DESCRIPTION: Rosenkavalier\nhttps://birgit-kolar.com/es/events/rosenkavalier-2/
URL:https://birgit-kolar.com/es/events/rosenkavalier-2/
END:VEVENT
END:VCALENDAR